BEGIN:VCALENDAR
VERSION:2.0
PRODID:-//Higher Vibrations Music - ECPv6.15.20//NONSGML v1.0//EN
CALSCALE:GREGORIAN
METHOD:PUBLISH
X-ORIGINAL-URL:https://highervibrationsmusic.org
X-WR-CALDESC:Events for Higher Vibrations Music
REFRESH-INTERVAL;VALUE=DURATION:PT1H
X-Robots-Tag:noindex
X-PUBLISHED-TTL:PT1H
BEGIN:VTIMEZONE
TZID:America/Phoenix
BEGIN:STANDARD
TZOFFSETFROM:-0700
TZOFFSETTO:-0700
TZNAME:MST
DTSTART:20230101T000000
END:STANDARD
END:VTIMEZONE
BEGIN:VEVENT
DTSTART;TZID=America/Phoenix:20240902T183000
DTEND;TZID=America/Phoenix:20240902T203000
DTSTAMP:20260423T184223
CREATED:20240830T160147Z
LAST-MODIFIED:20240830T160147Z
UID:5461-1725301800-1725309000@highervibrationsmusic.org
SUMMARY:Higher Vibrations Choir Meeting: September 2
DESCRIPTION:“Higher Vibrations™ – A Healing Choir” is now meeting LIVE in North Phoenix\, and on Zoom. \nJoin us in creating Harmony in person at: 730 E Rowlands Lane\, Phoenix\, AZ 85022\, or \nto join us by Zoom\, use the link or meeting ID below \nhttps://us02web.zoom.us/j/85262283951 \nZoom Meeting ID 852 6228 3951 \nWE WELCOME YOUR UNIQUENESS\nThis is an unconventional singing experience. We are an improvisational choir and encourage you to find your own voice. We make up our own harmony parts as we experiment\, explore and blend. We have a great time joyfully singing together. We experience a sense of friendship\, connection\, and oneness. \nHigher Vibrations is an active growing community of people who sing together for healing and transformation. We use our voices to create heightened states of spiritual connection\, joy\, bliss\, tranquility\, and healing. Our music is uplifting and spiritual\, and features lyrics that reference Love\, Harmony\, Energy\, Destiny\, Purpose\, Vibration\, Frequency\, Physics\, and the beauty of our Cosmos. Our director\, HG Moses\, PhDE often shares scientific information and the spiritual concepts related to the words we sing. \nOur lyrics are non-sectarian and non-denominational. All loving faith traditions are welcome. Meetup members are welcome to bring friends. \nOur music is designed to make it simple to sing together in Harmony. Our songbook is an ever-growing collection of sheet music and printed lyrics composed by HG Moses. His masterful piano accompaniments set the mood and establish the notes to follow as we sing and improvise. His music features resonant\, warm\, and beautiful chords that support a meaningful shared musical experience. \nWe welcome anyone who loves to sing\, regardless of previous experience in a choir. (And if you happen to believe you can’t sing\, this is a perfect setting in which to discover you can.) No music reading skills are required. \nThere is a requested $10 donation to participate in this event on Zoom and $20 in person.  If wish to participate and are not able to contribute at this time\, you may request a Scholarship.  You may also contribute more than the suggested amount and the additional funds will support members requesting scholarships.  Donations go to The Institute of Harmonic Science\, a 501c3 educational organization founded in Phoenix\, AZ in 2000.  \nTo donate\, click here: https://highervibrationsmusic.org/product-category/donations/ \n 
URL:https://highervibrationsmusic.org/event/higher-vibrations-choir-meeting-september-2/
LOCATION:The Institute of Harmonic Science\, 730 East Rowlands Lane\, Phoenix\, AZ\, 85022\, United States
ATTACH;FMTTYPE=image/jpeg:https://highervibrationsmusic.org/wp-content/uploads/2024/08/HV-Healing-Choir-Banner-009b.jpg
END:VEVENT
BEGIN:VEVENT
DTSTART;TZID=America/Phoenix:20240909T183000
DTEND;TZID=America/Phoenix:20240909T203000
DTSTAMP:20260423T184223
CREATED:20240905T165240Z
LAST-MODIFIED:20240905T165240Z
UID:5464-1725906600-1725913800@highervibrationsmusic.org
SUMMARY:Higher Vibrations Choir Meeting: September 9
DESCRIPTION:“Higher Vibrations™ – A Healing Choir” meets LIVE (and on Zoom) every Monday evening at 730 E Rowlands Lane\, Phoenix\, AZ 85022 (Moon Valley)\n\n• Due to limited seating please purchase your tickets early.  $10 guest / $20 sustaining member.  If wish to participate and are unable to contribute at this time\, you may request a scholarship.\n• Zoom: use this link and ID /  https://us02web.zoom.us/j/85262283951 Zoom Meeting ID 852 6228 3951\n\n• WE WELCOME YOUR UNIQUENESS.  This is an unconventional singing experience!  We are an improvisational choir – no music-reading skills are required.  Our music is designed to make it simple and easy to sing together in Harmony.\n• We strive for participation rather than perfection.  We encourage you to find your own voice as you sing the melody or improvise your own harmony part.  We believe that all beautiful music begins in the heart!\n• Our musical “experiment” is different each week as we explore new ways to blend our voices in Harmony and Love.  (There are no wrong notes\, just notes whose time has not yet come.)  You have the freedom to express yourself meaningfully in a healing field of energy.\n• We joyfully sing together in a safe and welcoming environment.  We experience a sense of friendship\, connection\, community\, and oneness.  \n• We welcome anyone who loves to sing\, regardless of previous experience in a choir. (If believe you can’t sing\, this is a perfect setting in which to discover that you can.) \n• We sing music that is uplifting and spiritual\, featuring lyrics that reference Love\, Harmony\, Energy\, Purpose\, Science\, Physics\, Frequency\, Vibration\, God\, Spirit\, Destiny\, and the beauty of our Earth and our Cosmos.\n• The lyrics to our ever-growing collection of songs are non-sectarian and non-denominational. All loving faith traditions are welcome.\n• Our director\, HG Moses\, PhDE often shares scientific information and provides spiritual concepts related to the words we sing. His masterful piano accompaniments set the mood and provide rich\, warm\, and beautiful tones that support a meaningful shared musical experience.\n•  Meetup members are welcome to bring friends. Higher Vibrations is an active growing community of people who sing together for healing and transformation.\n• The Higher Vibrations music experience is an outreach of The Institute of Harmonic Science\, a 501c3 educational organization founded in Phoenix\, AZ in 2000.\n\nDonations: https://highervibrationsmusic.org/product-category/donations/
URL:https://highervibrationsmusic.org/event/higher-vibrations-choir-meeting-september-9/
LOCATION:The Institute of Harmonic Science\, 730 East Rowlands Lane\, Phoenix\, AZ\, 85022\, United States
ATTACH;FMTTYPE=image/jpeg:https://highervibrationsmusic.org/wp-content/uploads/2024/09/HV-Healing-Choir-Banner-001b.jpg
END:VEVENT
BEGIN:VEVENT
DTSTART;TZID=America/Phoenix:20240916T183000
DTEND;TZID=America/Phoenix:20240916T203000
DTSTAMP:20260423T184223
CREATED:20240905T165630Z
LAST-MODIFIED:20240905T165630Z
UID:5467-1726511400-1726518600@highervibrationsmusic.org
SUMMARY:Higher Vibrations Choir Meeting: September 16
DESCRIPTION:“Higher Vibrations™ – A Healing Choir” meets LIVE (and on Zoom) every Monday evening at 730 E Rowlands Lane\, Phoenix\, AZ 85022 (Moon Valley)\n\n• Due to limited seating please purchase your tickets early.  $10 guest / $20 sustaining member.  If wish to participate and are unable to contribute at this time\, you may request a scholarship.\n• Zoom: use this link and ID /  https://us02web.zoom.us/j/85262283951 Zoom Meeting ID 852 6228 3951\n\n• WE WELCOME YOUR UNIQUENESS.  This is an unconventional singing experience!  We are an improvisational choir – no music-reading skills are required.  Our music is designed to make it simple and easy to sing together in Harmony.\n• We strive for participation rather than perfection.  We encourage you to find your own voice as you sing the melody or improvise your own harmony part.  We believe that all beautiful music begins in the heart!\n• Our musical “experiment” is different each week as we explore new ways to blend our voices in Harmony and Love.  (There are no wrong notes\, just notes whose time has not yet come.)  You have the freedom to express yourself meaningfully in a healing field of energy.\n• We joyfully sing together in a safe and welcoming environment.  We experience a sense of friendship\, connection\, community\, and oneness.  \n\n• We welcome anyone who loves to sing\, regardless of previous experience in a choir. (If believe you can’t sing\, this is a perfect setting in which to discover that you can.) \n• We sing music that is uplifting and spiritual\, featuring lyrics that reference Love\, Harmony\, Energy\, Purpose\, Science\, Physics\, Frequency\, Vibration\, God\, Spirit\, Destiny\, and the beauty of our Earth and our Cosmos.\n• The lyrics to our ever-growing collection of songs are non-sectarian and non-denominational. All loving faith traditions are welcome. \n\n• Our director\, HG Moses\, PhDE often shares scientific information and provides spiritual concepts related to the words we sing. His masterful piano accompaniments set the mood and provide rich\, warm\, and beautiful tones that support a meaningful shared musical experience.\n•  Meetup members are welcome to bring friends. Higher Vibrations is an active growing community of people who sing together for healing and transformation.\n• The Higher Vibrations music experience is an outreach of The Institute of Harmonic Science\, a 501c3 educational organization founded in Phoenix\, AZ in 2000.\n\nDonations: https://highervibrationsmusic.org/product-category/donations/
URL:https://highervibrationsmusic.org/event/higher-vibrations-choir-meeting-september-16/
LOCATION:The Institute of Harmonic Science\, 730 East Rowlands Lane\, Phoenix\, AZ\, 85022\, United States
ATTACH;FMTTYPE=image/jpeg:https://highervibrationsmusic.org/wp-content/uploads/2024/09/HV-Healing-Choir-Banner-002b.jpg
END:VEVENT
BEGIN:VEVENT
DTSTART;TZID=America/Phoenix:20240923T183000
DTEND;TZID=America/Phoenix:20240923T203000
DTSTAMP:20260423T184223
CREATED:20240905T165754Z
LAST-MODIFIED:20240905T165754Z
UID:5470-1727116200-1727123400@highervibrationsmusic.org
SUMMARY:Higher Vibrations Choir Meeting: September 23
DESCRIPTION:“Higher Vibrations™ – A Healing Choir” meets LIVE (and on Zoom) every Monday evening at 730 E Rowlands Lane\, Phoenix\, AZ 85022 (Moon Valley)\n\n• Due to limited seating please purchase your tickets early.  $10 guest / $20 sustaining member.  If wish to participate and are unable to contribute at this time\, you may request a scholarship.\n• Zoom: use this link and ID /  https://us02web.zoom.us/j/85262283951 Zoom Meeting ID 852 6228 3951\n\n• WE WELCOME YOUR UNIQUENESS.  This is an unconventional singing experience!  We are an improvisational choir – no music-reading skills are required.  Our music is designed to make it simple and easy to sing together in Harmony.\n• We strive for participation rather than perfection.  We encourage you to find your own voice as you sing the melody or improvise your own harmony part.  We believe that all beautiful music begins in the heart!\n• Our musical “experiment” is different each week as we explore new ways to blend our voices in Harmony and Love.  (There are no wrong notes\, just notes whose time has not yet come.)  You have the freedom to express yourself meaningfully in a healing field of energy.\n• We joyfully sing together in a safe and welcoming environment.  We experience a sense of friendship\, connection\, community\, and oneness.  \n\n• We welcome anyone who loves to sing\, regardless of previous experience in a choir. (If believe you can’t sing\, this is a perfect setting in which to discover that you can.) \n• We sing music that is uplifting and spiritual\, featuring lyrics that reference Love\, Harmony\, Energy\, Purpose\, Science\, Physics\, Frequency\, Vibration\, God\, Spirit\, Destiny\, and the beauty of our Earth and our Cosmos.\n• The lyrics to our ever-growing collection of songs are non-sectarian and non-denominational. All loving faith traditions are welcome. \n\n• Our director\, HG Moses\, PhDE often shares scientific information and provides spiritual concepts related to the words we sing. His masterful piano accompaniments set the mood and provide rich\, warm\, and beautiful tones that support a meaningful shared musical experience.\n•  Meetup members are welcome to bring friends. Higher Vibrations is an active growing community of people who sing together for healing and transformation.\n• The Higher Vibrations music experience is an outreach of The Institute of Harmonic Science\, a 501c3 educational organization founded in Phoenix\, AZ in 2000.\n\nDonations: https://highervibrationsmusic.org/product-category/donations/
URL:https://highervibrationsmusic.org/event/higher-vibrations-choir-meeting-september-23/
LOCATION:The Institute of Harmonic Science\, 730 East Rowlands Lane\, Phoenix\, AZ\, 85022\, United States
ATTACH;FMTTYPE=image/jpeg:https://highervibrationsmusic.org/wp-content/uploads/2024/09/HV-Healing-Choir-Banner-003d.jpg
END:VEVENT
END:VCALENDAR