BEGIN:VCALENDAR
VERSION:2.0
PRODID:-//Higher Vibrations Music - ECPv6.15.20//NONSGML v1.0//EN
CALSCALE:GREGORIAN
METHOD:PUBLISH
X-WR-CALNAME:Higher Vibrations Music
X-ORIGINAL-URL:https://highervibrationsmusic.org
X-WR-CALDESC:Events for Higher Vibrations Music
REFRESH-INTERVAL;VALUE=DURATION:PT1H
X-Robots-Tag:noindex
X-PUBLISHED-TTL:PT1H
BEGIN:VTIMEZONE
TZID:America/Phoenix
BEGIN:STANDARD
TZOFFSETFROM:-0700
TZOFFSETTO:-0700
TZNAME:MST
DTSTART:20210101T000000
END:STANDARD
END:VTIMEZONE
BEGIN:VEVENT
DTSTART;TZID=America/Phoenix:20221107T183000
DTEND;TZID=America/Phoenix:20221107T203000
DTSTAMP:20260425T045539
CREATED:20220202T162917Z
LAST-MODIFIED:20220202T162917Z
UID:4401-1667845800-1667853000@highervibrationsmusic.org
SUMMARY:Higher Vibrations Zoom Meeting: November 7th
DESCRIPTION:This event is hosted on the online ZOOM platform.  If you are not familiar with ZOOM\, it is a simple-to-use online portal where we can all see each other while we sing together. You can use your cell phone\, however\, it will be a higher quality sound experience on your computer.  NOTE: If you don’t have a camera on your computer\, you can still participate. \nAs a member of the Higher Vibrations Music website\, you will be able to download the lyrics and/or sheet music for use in singing the songs.  Additionally\, we post the lyrics into the ZOOM chat window before each song\, for your convenience. \nBecause of technical limitations\, we have found the best format for singing together is to mute all the singers during each song except for the song leader.  The singers will sing along with the song leader and we will un-mute everyone at the end of the song. \nThere is a requested $10 donation to participate in this event.  If wish to participate and are not able to contribute at this time\, choose the Request Scholarship category.  You may also contribute more than $10 and the additional funds will support members requesting scholarships.  Donations go to The Institute of Harmonic Science\, a 501c3 educational organization founded in Phoenix\, AZ in 2000.
URL:https://highervibrationsmusic.org/event/higher-vibrations-zoom-meeting-november-7th/
LOCATION:In Person\, AZ\, United States
ATTACH;FMTTYPE=image/png:https://highervibrationsmusic.org/wp-content/uploads/2020/04/weekly-event-1-1.png
END:VEVENT
BEGIN:VEVENT
DTSTART;TZID=America/Phoenix:20221114T183000
DTEND;TZID=America/Phoenix:20221114T203000
DTSTAMP:20260425T045539
CREATED:20220202T163230Z
LAST-MODIFIED:20220202T163350Z
UID:4408-1668450600-1668457800@highervibrationsmusic.org
SUMMARY:Higher Vibrations Zoom Meeting: November 14th
DESCRIPTION:This event is hosted on the online ZOOM platform.  If you are not familiar with ZOOM\, it is a simple-to-use online portal where we can all see each other while we sing together. You can use your cell phone\, however\, it will be a higher quality sound experience on your computer.  NOTE: If you don’t have a camera on your computer\, you can still participate. \nAs a member of the Higher Vibrations Music website\, you will be able to download the lyrics and/or sheet music for use in singing the songs.  Additionally\, we post the lyrics into the ZOOM chat window before each song\, for your convenience. \nBecause of technical limitations\, we have found the best format for singing together is to mute all the singers during each song except for the song leader.  The singers will sing along with the song leader and we will un-mute everyone at the end of the song. \nThere is a requested $10 donation to participate in this event.  If wish to participate and are not able to contribute at this time\, choose the Request Scholarship category.  You may also contribute more than $10 and the additional funds will support members requesting scholarships.  Donations go to The Institute of Harmonic Science\, a 501c3 educational organization founded in Phoenix\, AZ in 2000.
URL:https://highervibrationsmusic.org/event/higher-vibrations-zoom-meeting-november-14th-2/
LOCATION:In Person\, AZ\, United States
ATTACH;FMTTYPE=image/png:https://highervibrationsmusic.org/wp-content/uploads/2020/04/weekly-event-1-1.png
END:VEVENT
BEGIN:VEVENT
DTSTART;TZID=America/Phoenix:20221121T183000
DTEND;TZID=America/Phoenix:20221121T203000
DTSTAMP:20260425T045539
CREATED:20220202T164040Z
LAST-MODIFIED:20220202T164040Z
UID:4415-1669055400-1669062600@highervibrationsmusic.org
SUMMARY:Higher Vibrations Zoom Meeting: November 21st
DESCRIPTION:This event is hosted on the online ZOOM platform.  If you are not familiar with ZOOM\, it is a simple-to-use online portal where we can all see each other while we sing together. You can use your cell phone\, however\, it will be a higher quality sound experience on your computer.  NOTE: If you don’t have a camera on your computer\, you can still participate. \nAs a member of the Higher Vibrations Music website\, you will be able to download the lyrics and/or sheet music for use in singing the songs.  Additionally\, we post the lyrics into the ZOOM chat window before each song\, for your convenience. \nBecause of technical limitations\, we have found the best format for singing together is to mute all the singers during each song except for the song leader.  The singers will sing along with the song leader and we will un-mute everyone at the end of the song. \nThere is a requested $10 donation to participate in this event.  If wish to participate and are not able to contribute at this time\, choose the Request Scholarship category.  You may also contribute more than $10 and the additional funds will support members requesting scholarships.  Donations go to The Institute of Harmonic Science\, a 501c3 educational organization founded in Phoenix\, AZ in 2000.
URL:https://highervibrationsmusic.org/event/higher-vibrations-zoom-meeting-november-21st/
LOCATION:In Person\, AZ\, United States
ATTACH;FMTTYPE=image/png:https://highervibrationsmusic.org/wp-content/uploads/2020/04/weekly-event-1-1.png
END:VEVENT
BEGIN:VEVENT
DTSTART;TZID=America/Phoenix:20221128T183000
DTEND;TZID=America/Phoenix:20221128T203000
DTSTAMP:20260425T045539
CREATED:20220202T164821Z
LAST-MODIFIED:20220202T164821Z
UID:4422-1669660200-1669667400@highervibrationsmusic.org
SUMMARY:Higher Vibrations Zoom Meeting: November 28th
DESCRIPTION:This event is hosted on the online ZOOM platform.  If you are not familiar with ZOOM\, it is a simple-to-use online portal where we can all see each other while we sing together. You can use your cell phone\, however\, it will be a higher quality sound experience on your computer.  NOTE: If you don’t have a camera on your computer\, you can still participate. \nAs a member of the Higher Vibrations Music website\, you will be able to download the lyrics and/or sheet music for use in singing the songs.  Additionally\, we post the lyrics into the ZOOM chat window before each song\, for your convenience. \nBecause of technical limitations\, we have found the best format for singing together is to mute all the singers during each song except for the song leader.  The singers will sing along with the song leader and we will un-mute everyone at the end of the song. \nThere is a requested $10 donation to participate in this event.  If wish to participate and are not able to contribute at this time\, choose the Request Scholarship category.  You may also contribute more than $10 and the additional funds will support members requesting scholarships.  Donations go to The Institute of Harmonic Science\, a 501c3 educational organization founded in Phoenix\, AZ in 2000.
URL:https://highervibrationsmusic.org/event/higher-vibrations-zoom-meeting-november-28th-2/
LOCATION:In Person\, AZ\, United States
ATTACH;FMTTYPE=image/png:https://highervibrationsmusic.org/wp-content/uploads/2020/04/weekly-event-1-1.png
END:VEVENT
END:VCALENDAR