BEGIN:VCALENDAR
VERSION:2.0
PRODID:-//Higher Vibrations Music - ECPv6.15.20//NONSGML v1.0//EN
CALSCALE:GREGORIAN
METHOD:PUBLISH
X-ORIGINAL-URL:https://highervibrationsmusic.org
X-WR-CALDESC:Events for Higher Vibrations Music
REFRESH-INTERVAL;VALUE=DURATION:PT1H
X-Robots-Tag:noindex
X-PUBLISHED-TTL:PT1H
BEGIN:VTIMEZONE
TZID:America/Phoenix
BEGIN:STANDARD
TZOFFSETFROM:-0700
TZOFFSETTO:-0700
TZNAME:MST
DTSTART:20230101T000000
END:STANDARD
END:VTIMEZONE
BEGIN:VEVENT
DTSTART;TZID=America/Phoenix:20241125T183000
DTEND;TZID=America/Phoenix:20241125T203000
DTSTAMP:20260423T150426
CREATED:20241112T214629Z
LAST-MODIFIED:20241112T215431Z
UID:5947-1732559400-1732566600@highervibrationsmusic.org
SUMMARY:Higher Vibrations Community Choir: November 25 - Canceled
DESCRIPTION:Higher Vibrations – A Healing Choir  \nHigher Vibrations Community Choir: November 25\, 2024 – Canceled
URL:https://highervibrationsmusic.org/event/higher-vibrations-community-choir-november-25-canceled/
LOCATION:The Institute of Harmonic Science\, 730 East Rowlands Lane\, Phoenix\, AZ\, 85022\, United States
ATTACH;FMTTYPE=image/jpeg:https://highervibrationsmusic.org/wp-content/uploads/2024/08/HV-Healing-Choir-Banner-009b.jpg
END:VEVENT
END:VCALENDAR