BEGIN:VCALENDAR
VERSION:2.0
PRODID:-//Higher Vibrations Music - ECPv6.15.20//NONSGML v1.0//EN
CALSCALE:GREGORIAN
METHOD:PUBLISH
X-WR-CALNAME:Higher Vibrations Music
X-ORIGINAL-URL:https://highervibrationsmusic.org
X-WR-CALDESC:Events for Higher Vibrations Music
REFRESH-INTERVAL;VALUE=DURATION:PT1H
X-Robots-Tag:noindex
X-PUBLISHED-TTL:PT1H
BEGIN:VTIMEZONE
TZID:America/Phoenix
BEGIN:STANDARD
TZOFFSETFROM:-0700
TZOFFSETTO:-0700
TZNAME:MST
DTSTART:20230101T000000
END:STANDARD
END:VTIMEZONE
BEGIN:VEVENT
DTSTART;TZID=America/Phoenix:20240122T173000
DTEND;TZID=America/Phoenix:20240122T190000
DTSTAMP:20260424T074642
CREATED:20231219T222940Z
LAST-MODIFIED:20240104T000649Z
UID:4887-1705944600-1705950000@highervibrationsmusic.org
SUMMARY:Higher Vibrations Special Choir Meeting at the Beatitudes: January 22
DESCRIPTION:“Higher Vibrations™ – A Healing Choir”  Special Meeting at The Beatitudes \nThis special event will take the place of our regular Monday night meeting for January 22nd. \nIt will be held at The Beatitudes Campus on Monday\, January 22\, 2024   5:30pm – 7:00pm \nThe Beatitudes Campus\n1610 W Glendale Ave\, Phoenix\, AZ 85021 \nThis amazing center is home to over 800 senior residents in Phoenix. This is a meaningful way to give back to a population of wonderful seniors that we have been singing with. Bring your friends and loved ones and enjoy an evening singing together with us in harmony. \nhttps://beatitudescampus.org/ \n* There will be no Zoom available for this special event. \n  \nIf you would like to support this event\, donations go to The Institute of Harmonic Science\, a 501c3 educational organization founded in Phoenix\, AZ in 2000.  \nTo donate\, click here: https://highervibrationsmusic.org/product-category/donations/ \nThis event is partially funded by a City of Phoenix Arts + Culture Grant. \n  \nWE WELCOME YOUR UNIQUENESS\nThis is an unconventional singing experience. We are an improvisational choir and encourage you to find your own voice. We make up our own harmony parts as we experiment\, explore and blend. We have a great time joyfully singing together. We experience a sense of friendship\, connection\, and oneness. \nHigher Vibrations is an active growing community of people who sing together for healing and transformation. We use our voices to create heightened states of spiritual connection\, joy\, bliss\, tranquility\, and healing. Our music is uplifting and spiritual\, and features lyrics that reference Love\, Harmony\, Energy\, Destiny\, Purpose\, Vibration\, Frequency\, Physics\, and the beauty of our Cosmos. Our director\, HG Moses\, PhDE often shares scientific information and the spiritual concepts related to the words we sing. \nOur lyrics are non-sectarian and non-denominational. All loving faith traditions are welcome. Meetup members are welcome to bring friends. \nOur music is designed to make it simple to sing together in Harmony. Our songbook is an ever-growing collection of sheet music and printed lyrics composed by HG Moses. His masterful piano accompaniments set the mood and establish the notes to follow as we sing and improvise. His music features resonant\, warm\, and beautiful chords that support a meaningful shared musical experience. \nWe welcome anyone who loves to sing\, regardless of previous experience in a choir. (And if you happen to believe you can’t sing\, this is a perfect setting in which to discover you can.) No music reading skills are required.
URL:https://highervibrationsmusic.org/event/higher-vibrations-special-choir-meeting-at-the-beatitudes-january-22/
LOCATION:1610 W. Glendale Ave. Phoenix\, AZ 85021\, 1610 W. Glendale Ave.\, Phoenix\, AZ\, 85021\, United States
ATTACH;FMTTYPE=image/jpeg:https://highervibrationsmusic.org/wp-content/uploads/2023/12/image-3.jpg
END:VEVENT
END:VCALENDAR